Workbook
Name DSGDEB: #REF!
Name DSGDEB: #REF!
Name qsel_DeutschlandtarifLayouts: #REF!
Name qsel_DeutschlandtarifLayouts: #REF!
Name TM1REBUILDOPTION: 1

Sheet intern_Zuordnung_Angebot_Cluste
A1: RowNum | B1: Verkehr | C1: Gattung | D1: Datumsindex | E1: Mandant | F1: gueltig_von | G1: gueltig_bis | H1: Ticketcluster | K1: Check: | L1: Anzahl Datensätze auf "VerkGatt" | O1: =COUNTA(VerkGatt!E:E)-1 -> 338
B2: number(3) | C2: number(3) | D2: number(2) | E2: number(7) | F2: datetime(dd-mm-yyyy 00:00:00) | G2: datetime(dd-mm-yyyy 00:00:00) | H2: number(3) | L2: Anzahl Datensätze hier | O2: =COUNTA(C:C)-4 -> 2407
B3: Index_1 | C3: Index_2 | D3: Index_3 | E3: Index_4 | F3: Result_1 | G3: Result_2 | H3: Result_3
B4: ja | C4: ja | D4: nein | E4: ja | F4: ja | G4: ja | H4: ja
A5: bleibt leer | D5: Konstante 1 | E5: Konstante 10000
B6: =+VerkGatt!#REF! -> #REF! | C6: =+VerkGatt!#REF! -> #REF! | D6: 1 | E6: 10000 | F6: =+VerkGatt!#REF! -> #REF! | G6: =+VerkGatt!#REF! -> #REF! | H6: =+VerkGatt!#REF! -> #REF!
B7: =+VerkGatt!#REF! -> #REF! | C7: =+VerkGatt!#REF! -> #REF! | D7: 1 | E7: 10000 | F7: =+VerkGatt!#REF! -> #REF! | G7: =+VerkGatt!#REF! -> #REF! | H7: =+VerkGatt!#REF! -> #REF!
B8: =+VerkGatt!#REF! -> #REF! | C8: =+VerkGatt!#REF! -> #REF! | D8: 1 | E8: 10000 | F8: =+VerkGatt!#REF! -> #REF! | G8: =+VerkGatt!#REF! -> #REF! | H8: =+VerkGatt!#REF! -> #REF!
B9: =+VerkGatt!#REF! -> #REF! | C9: =+VerkGatt!#REF! -> #REF! | D9: 1 | E9: 10000 | F9: =+VerkGatt!#REF! -> #REF! | G9: =+VerkGatt!#REF! -> #REF! | H9: =+VerkGatt!#REF! -> #REF!
B10: =+VerkGatt!#REF! -> #REF! | C10: =+VerkGatt!#REF! -> #REF! | D10: 1 | E10: 10000 | F10: =+VerkGatt!#REF! -> #REF! | G10: =+VerkGatt!#REF! -> #REF! | H10: =+VerkGatt!#REF! -> #REF!
B11: =+VerkGatt!#REF! -> #REF! | C11: =+VerkGatt!#REF! -> #REF! | D11: 1 | E11: 10000 | F11: =+VerkGatt!#REF! -> #REF! | G11: =+VerkGatt!#REF! -> #REF! | H11: =+VerkGatt!#REF! -> #REF!
B12: =+VerkGatt!#REF! -> #REF! | C12: =+VerkGatt!#REF! -> #REF! | D12: 1 | E12: 10000 | F12: =+VerkGatt!#REF! -> #REF! | G12: =+VerkGatt!#REF! -> #REF! | H12: =+VerkGatt!#REF! -> #REF!
B13: =+VerkGatt!#REF! -> #REF! | C13: =+VerkGatt!#REF! -> #REF! | D13: 1 | E13: 10000 | F13: =+VerkGatt!#REF! -> #REF! | G13: =+VerkGatt!#REF! -> #REF! | H13: =+VerkGatt!#REF! -> #REF!
B14: =+VerkGatt!#REF! -> #REF! | C14: =+VerkGatt!#REF! -> #REF! | D14: 1 | E14: 10000 | F14: =+VerkGatt!#REF! -> #REF! | G14: =+VerkGatt!#REF! -> #REF! | H14: =+VerkGatt!#REF! -> #REF!
B15: =+VerkGatt!#REF! -> #REF! | C15: =+VerkGatt!#REF! -> #REF! | D15: 1 | E15: 10000 | F15: =+VerkGatt!#REF! -> #REF! | G15: =+VerkGatt!#REF! -> #REF! | H15: =+VerkGatt!#REF! -> #REF!
B16: =+VerkGatt!#REF! -> #REF! | C16: =+VerkGatt!#REF! -> #REF! | D16: 1 | E16: 10000 | F16: =+VerkGatt!#REF! -> #REF! | G16: =+VerkGatt!#REF! -> #REF! | H16: =+VerkGatt!#REF! -> #REF!
B17: =+VerkGatt!#REF! -> #REF! | C17: =+VerkGatt!#REF! -> #REF! | D17: 1 | E17: 10000 | F17: =+VerkGatt!#REF! -> #REF! | G17: =+VerkGatt!#REF! -> #REF! | H17: =+VerkGatt!#REF! -> #REF!
B18: =+VerkGatt!C2 -> 3 | C18: =+VerkGatt!E2 -> 179 | D18: 1 | E18: 10000 | F18: =+VerkGatt!V2 -> 44562 | G18: =+VerkGatt!W2 -> 54788 | H18: =+VerkGatt!S2 -> 5
B19: =+VerkGatt!C3 -> 35 | C19: =+VerkGatt!E3 -> 850 | D19: 1 | E19: 10000 | F19: =+VerkGatt!V3 -> 44562 | G19: =+VerkGatt!W3 -> 45639 | H19: =+VerkGatt!S3 -> 2
B20: =+VerkGatt!#REF! -> #REF! | C20: =+VerkGatt!#REF! -> #REF! | D20: 1 | E20: 10000 | F20: =+VerkGatt!#REF! -> #REF! | G20: =+VerkGatt!#REF! -> #REF! | H20: =+VerkGatt!#REF! -> #REF!
B21: =+VerkGatt!#REF! -> #REF! | C21: =+VerkGatt!#REF! -> #REF! | D21: 1 | E21: 10000 | F21: =+VerkGatt!#REF! -> #REF! | G21: =+VerkGatt!#REF! -> #REF! | H21: =+VerkGatt!#REF! -> #REF!
B22: =+VerkGatt!#REF! -> #REF! | C22: =+VerkGatt!#REF! -> #REF! | D22: 1 | E22: 10000 | F22: =+VerkGatt!#REF! -> #REF! | G22: =+VerkGatt!#REF! -> #REF! | H22: =+VerkGatt!#REF! -> #REF!
B23: =+VerkGatt!C4 -> 35 | C23: =+VerkGatt!E4 -> 846 | D23: 1 | E23: 10000 | F23: =+VerkGatt!V4 -> 44562 | G23: =+VerkGatt!W4 -> 45639 | H23: =+VerkGatt!S4 -> 2
B24: =+VerkGatt!C5 -> 154 | C24: =+VerkGatt!E5 -> 31 | D24: 1 | E24: 10000 | F24: =+VerkGatt!V5 -> 44562 | G24: =+VerkGatt!W5 -> 54788 | H24: =+VerkGatt!S5 -> 2
B25: =+VerkGatt!#REF! -> #REF! | C25: =+VerkGatt!#REF! -> #REF! | D25: 1 | E25: 10000 | F25: =+VerkGatt!#REF! -> #REF! | G25: =+VerkGatt!#REF! -> #REF! | H25: =+VerkGatt!#REF! -> #REF!
B26: =+VerkGatt!C6 -> 154 | C26: =+VerkGatt!E6 -> 30 | D26: 1 | E26: 10000 | F26: =+VerkGatt!V6 -> 44562 | G26: =+VerkGatt!W6 -> 54788 | H26: =+VerkGatt!S6 -> 2
B27: =+VerkGatt!C7 -> 154 | C27: =+VerkGatt!E7 -> 107 | D27: 1 | E27: 10000 | F27: =+VerkGatt!V7 -> 44562 | G27: =+VerkGatt!W7 -> 54788 | H27: =+VerkGatt!S7 -> 2
B28: =+VerkGatt!#REF! -> #REF! | C28: =+VerkGatt!#REF! -> #REF! | D28: 1 | E28: 10000 | F28: =+VerkGatt!#REF! -> #REF! | G28: =+VerkGatt!#REF! -> #REF! | H28: =+VerkGatt!#REF! -> #REF!
B29: =+VerkGatt!C8 -> 154 | C29: =+VerkGatt!E8 -> 106 | D29: 1 | E29: 10000 | F29: =+VerkGatt!V8 -> 44562 | G29: =+VerkGatt!W8 -> 54788 | H29: =+VerkGatt!S8 -> 2
B30: =+VerkGatt!#REF! -> #REF! | C30: =+VerkGatt!#REF! -> #REF! | D30: 1 | E30: 10000 | F30: =+VerkGatt!#REF! -> #REF! | G30: =+VerkGatt!#REF! -> #REF! | H30: =+VerkGatt!#REF! -> #REF!
B31: =+VerkGatt!C9 -> 154 | C31: =+VerkGatt!E9 -> 108 | D31: 1 | E31: 10000 | F31: =+VerkGatt!V9 -> 44562 | G31: =+VerkGatt!W9 -> 54788 | H31: =+VerkGatt!S9 -> 2
B32: =+VerkGatt!C10 -> 154 | C32: =+VerkGatt!E10 -> 21 | D32: 1 | E32: 10000 | F32: =+VerkGatt!V10 -> 44562 | G32: =+VerkGatt!W10 -> 54788 | H32: =+VerkGatt!S10 -> 2
B33: =+VerkGatt!#REF! -> #REF! | C33: =+VerkGatt!#REF! -> #REF! | D33: 1 | E33: 10000 | F33: =+VerkGatt!#REF! -> #REF! | G33: =+VerkGatt!#REF! -> #REF! | H33: =+VerkGatt!#REF! -> #REF!
B34: =+VerkGatt!#REF! -> #REF! | C34: =+VerkGatt!#REF! -> #REF! | D34: 1 | E34: 10000 | F34: =+VerkGatt!#REF! -> #REF! | G34: =+VerkGatt!#REF! -> #REF! | H34: =+VerkGatt!#REF! -> #REF!
B35: =+VerkGatt!C11 -> 154 | C35: =+VerkGatt!E11 -> 20 | D35: 1 | E35: 10000 | F35: =+VerkGatt!V11 -> 44562 | G35: =+VerkGatt!W11 -> 45639 | H35: =+VerkGatt!S11 -> 2
B36: =+VerkGatt!#REF! -> #REF! | C36: =+VerkGatt!#REF! -> #REF! | D36: 1 | E36: 10000 | F36: =+VerkGatt!#REF! -> #REF! | G36: =+VerkGatt!#REF! -> #REF! | H36: =+VerkGatt!#REF! -> #REF!
B37: =+VerkGatt!C12 -> 154 | C37: =+VerkGatt!E12 -> 104 | D37: 1 | E37: 10000 | F37: =+VerkGatt!V12 -> 44562 | G37: =+VerkGatt!W12 -> 45639 | H37: =+VerkGatt!S12 -> 2
B38: =+VerkGatt!C13 -> 154 | C38: =+VerkGatt!E13 -> 103 | D38: 1 | E38: 10000 | F38: =+VerkGatt!V13 -> 44562 | G38: =+VerkGatt!W13 -> 45639 | H38: =+VerkGatt!S13 -> 2
B39: =+VerkGatt!C14 -> 154 | C39: =+VerkGatt!E14 -> 105 | D39: 1 | E39: 10000 | F39: =+VerkGatt!V14 -> 44562 | G39: =+VerkGatt!W14 -> 54788 | H39: =+VerkGatt!S14 -> 2
B40: =+VerkGatt!C15 -> 154 | C40: =+VerkGatt!E15 -> 41 | D40: 1 | E40: 10000 | F40: =+VerkGatt!V15 -> 44562 | G40: =+VerkGatt!W15 -> 54788 | H40: =+VerkGatt!S15 -> 2
...

Sheet intern_daMAXX_VL_AG09_DTV_LART
A1: RowNum | B1: BASISVERKEHR | C1: BASISGATTUNG | D1: DATUMSINDEX | E1: MANDANT | F1: GUELTIG_VON | G1: GUELTIG_BIS | H1: VERKEHR_DTV | I1: GATTUNG_DTV | K1: Check: | L1: Anzahl Datensätze auf "VerkGatt" | O1: =COUNTA(VerkGatt!E:E)-1 -> 338
B2: number(3) | C2: number(3) | D2: number(2) | E2: number(7) | F2: datetime(dd-mm-yyyy 00:00:00) | G2: datetime(dd-mm-yyyy 00:00:00) | H2: number(3) | I2: number(3) | L2: Anzahl Datensätze hier | O2: =COUNTA(C:C)-4 -> 2442
B3: Index_1 | C3: Index_2 | D3: Index_3 | E3: Index_4 | F3: Result_1 | G3: Result_2 | H3: Result_3 | I3: Result_4
B4: ja | C4: ja | D4: ja | E4: ja | F4: ja | G4: ja | H4: ja | I4: ja
A5: bleibt leer | D5: Konstante 1 | E5: Konstante 10000
B6: =+VerkGatt!#REF! -> #REF! | C6: =+VerkGatt!#REF! -> #REF! | D6: 1 | E6: 10000 | F6: =+VerkGatt!#REF! -> #REF! | G6: =+VerkGatt!#REF! -> #REF! | H6: =+VerkGatt!#REF! -> #REF! | I6: =+VerkGatt!#REF! -> #REF!
B7: =+VerkGatt!#REF! -> #REF! | C7: =+VerkGatt!#REF! -> #REF! | D7: 1 | E7: 10000 | F7: =+VerkGatt!#REF! -> #REF! | G7: =+VerkGatt!#REF! -> #REF! | H7: =+VerkGatt!#REF! -> #REF! | I7: =+VerkGatt!#REF! -> #REF!
B8: =+VerkGatt!#REF! -> #REF! | C8: =+VerkGatt!#REF! -> #REF! | D8: 1 | E8: 10000 | F8: =+VerkGatt!#REF! -> #REF! | G8: =+VerkGatt!#REF! -> #REF! | H8: =+VerkGatt!#REF! -> #REF! | I8: =+VerkGatt!#REF! -> #REF!
B9: =+VerkGatt!#REF! -> #REF! | C9: =+VerkGatt!#REF! -> #REF! | D9: 1 | E9: 10000 | F9: =+VerkGatt!#REF! -> #REF! | G9: =+VerkGatt!#REF! -> #REF! | H9: =+VerkGatt!#REF! -> #REF! | I9: =+VerkGatt!#REF! -> #REF!
B10: =+VerkGatt!#REF! -> #REF! | C10: =+VerkGatt!#REF! -> #REF! | D10: 1 | E10: 10000 | F10: =+VerkGatt!#REF! -> #REF! | G10: =+VerkGatt!#REF! -> #REF! | H10: =+VerkGatt!#REF! -> #REF! | I10: =+VerkGatt!#REF! -> #REF!
B11: =+VerkGatt!#REF! -> #REF! | C11: =+VerkGatt!#REF! -> #REF! | D11: 1 | E11: 10000 | F11: =+VerkGatt!#REF! -> #REF! | G11: =+VerkGatt!#REF! -> #REF! | H11: =+VerkGatt!#REF! -> #REF! | I11: =+VerkGatt!#REF! -> #REF!
B12: =+VerkGatt!#REF! -> #REF! | C12: =+VerkGatt!#REF! -> #REF! | D12: 1 | E12: 10000 | F12: =+VerkGatt!#REF! -> #REF! | G12: =+VerkGatt!#REF! -> #REF! | H12: =+VerkGatt!#REF! -> #REF! | I12: =+VerkGatt!#REF! -> #REF!
B13: =+VerkGatt!#REF! -> #REF! | C13: =+VerkGatt!#REF! -> #REF! | D13: 1 | E13: 10000 | F13: =+VerkGatt!#REF! -> #REF! | G13: =+VerkGatt!#REF! -> #REF! | H13: =+VerkGatt!#REF! -> #REF! | I13: =+VerkGatt!#REF! -> #REF!
B14: =+VerkGatt!#REF! -> #REF! | C14: =+VerkGatt!#REF! -> #REF! | D14: 1 | E14: 10000 | F14: =+VerkGatt!#REF! -> #REF! | G14: =+VerkGatt!#REF! -> #REF! | H14: =+VerkGatt!#REF! -> #REF! | I14: =+VerkGatt!#REF! -> #REF!
B15: =+VerkGatt!#REF! -> #REF! | C15: =+VerkGatt!#REF! -> #REF! | D15: 1 | E15: 10000 | F15: =+VerkGatt!#REF! -> #REF! | G15: =+VerkGatt!#REF! -> #REF! | H15: =+VerkGatt!#REF! -> #REF! | I15: =+VerkGatt!#REF! -> #REF!
B16: =+VerkGatt!#REF! -> #REF! | C16: =+VerkGatt!#REF! -> #REF! | D16: 1 | E16: 10000 | F16: =+VerkGatt!#REF! -> #REF! | G16: =+VerkGatt!#REF! -> #REF! | H16: =+VerkGatt!#REF! -> #REF! | I16: =+VerkGatt!#REF! -> #REF!
B17: =+VerkGatt!#REF! -> #REF! | C17: =+VerkGatt!#REF! -> #REF! | D17: 1 | E17: 10000 | F17: =+VerkGatt!#REF! -> #REF! | G17: =+VerkGatt!#REF! -> #REF! | H17: =+VerkGatt!#REF! -> #REF! | I17: =+VerkGatt!#REF! -> #REF!
B18: =+VerkGatt!C2 -> 3 | C18: =+VerkGatt!E2 -> 179 | D18: 1 | E18: 10000 | F18: =+VerkGatt!V2 -> 44562 | G18: =+VerkGatt!W2 -> 54788 | H18: =+VerkGatt!#REF! -> #REF! | I18: =+VerkGatt!#REF! -> #REF!
B19: =+VerkGatt!C3 -> 35 | C19: =+VerkGatt!E3 -> 850 | D19: 1 | E19: 10000 | F19: =+VerkGatt!V3 -> 44562 | G19: =+VerkGatt!W3 -> 45639 | H19: =+VerkGatt!#REF! -> #REF! | I19: =+VerkGatt!#REF! -> #REF!
B20: =+VerkGatt!#REF! -> #REF! | C20: =+VerkGatt!#REF! -> #REF! | D20: 1 | E20: 10000 | F20: =+VerkGatt!#REF! -> #REF! | G20: =+VerkGatt!#REF! -> #REF! | H20: =+VerkGatt!#REF! -> #REF! | I20: =+VerkGatt!#REF! -> #REF!
B21: =+VerkGatt!#REF! -> #REF! | C21: =+VerkGatt!#REF! -> #REF! | D21: 1 | E21: 10000 | F21: =+VerkGatt!#REF! -> #REF! | G21: =+VerkGatt!#REF! -> #REF! | H21: =+VerkGatt!#REF! -> #REF! | I21: =+VerkGatt!#REF! -> #REF!
B22: =+VerkGatt!#REF! -> #REF! | C22: =+VerkGatt!#REF! -> #REF! | D22: 1 | E22: 10000 | F22: =+VerkGatt!#REF! -> #REF! | G22: =+VerkGatt!#REF! -> #REF! | H22: =+VerkGatt!#REF! -> #REF! | I22: =+VerkGatt!#REF! -> #REF!
B23: =+VerkGatt!C4 -> 35 | C23: =+VerkGatt!E4 -> 846 | D23: 1 | E23: 10000 | F23: =+VerkGatt!V4 -> 44562 | G23: =+VerkGatt!W4 -> 45639 | H23: =+VerkGatt!#REF! -> #REF! | I23: =+VerkGatt!#REF! -> #REF!
B24: =+VerkGatt!C5 -> 154 | C24: =+VerkGatt!E5 -> 31 | D24: 1 | E24: 10000 | F24: =+VerkGatt!V5 -> 44562 | G24: =+VerkGatt!W5 -> 54788 | H24: =+VerkGatt!#REF! -> #REF! | I24: =+VerkGatt!#REF! -> #REF!
B25: =+VerkGatt!#REF! -> #REF! | C25: =+VerkGatt!#REF! -> #REF! | D25: 1 | E25: 10000 | F25: =+VerkGatt!#REF! -> #REF! | G25: =+VerkGatt!#REF! -> #REF! | H25: =+VerkGatt!#REF! -> #REF! | I25: =+VerkGatt!#REF! -> #REF!
B26: =+VerkGatt!C6 -> 154 | C26: =+VerkGatt!E6 -> 30 | D26: 1 | E26: 10000 | F26: =+VerkGatt!V6 -> 44562 | G26: =+VerkGatt!W6 -> 54788 | H26: =+VerkGatt!#REF! -> #REF! | I26: =+VerkGatt!#REF! -> #REF!
B27: =+VerkGatt!C7 -> 154 | C27: =+VerkGatt!E7 -> 107 | D27: 1 | E27: 10000 | F27: =+VerkGatt!V7 -> 44562 | G27: =+VerkGatt!W7 -> 54788 | H27: =+VerkGatt!#REF! -> #REF! | I27: =+VerkGatt!#REF! -> #REF!
B28: =+VerkGatt!#REF! -> #REF! | C28: =+VerkGatt!#REF! -> #REF! | D28: 1 | E28: 10000 | F28: =+VerkGatt!#REF! -> #REF! | G28: =+VerkGatt!#REF! -> #REF! | H28: =+VerkGatt!#REF! -> #REF! | I28: =+VerkGatt!#REF! -> #REF!
B29: =+VerkGatt!C8 -> 154 | C29: =+VerkGatt!E8 -> 106 | D29: 1 | E29: 10000 | F29: =+VerkGatt!V8 -> 44562 | G29: =+VerkGatt!W8 -> 54788 | H29: =+VerkGatt!#REF! -> #REF! | I29: =+VerkGatt!#REF! -> #REF!
B30: =+VerkGatt!#REF! -> #REF! | C30: =+VerkGatt!#REF! -> #REF! | D30: 1 | E30: 10000 | F30: =+VerkGatt!#REF! -> #REF! | G30: =+VerkGatt!#REF! -> #REF! | H30: =+VerkGatt!#REF! -> #REF! | I30: =+VerkGatt!#REF! -> #REF!
B31: =+VerkGatt!C9 -> 154 | C31: =+VerkGatt!E9 -> 108 | D31: 1 | E31: 10000 | F31: =+VerkGatt!V9 -> 44562 | G31: =+VerkGatt!W9 -> 54788 | H31: =+VerkGatt!#REF! -> #REF! | I31: =+VerkGatt!#REF! -> #REF!
B32: =+VerkGatt!C10 -> 154 | C32: =+VerkGatt!E10 -> 21 | D32: 1 | E32: 10000 | F32: =+VerkGatt!V10 -> 44562 | G32: =+VerkGatt!W10 -> 54788 | H32: =+VerkGatt!#REF! -> #REF! | I32: =+VerkGatt!#REF! -> #REF!
B33: =+VerkGatt!#REF! -> #REF! | C33: =+VerkGatt!#REF! -> #REF! | D33: 1 | E33: 10000 | F33: =+VerkGatt!#REF! -> #REF! | G33: =+VerkGatt!#REF! -> #REF! | H33: =+VerkGatt!#REF! -> #REF! | I33: =+VerkGatt!#REF! -> #REF!
B34: =+VerkGatt!#REF! -> #REF! | C34: =+VerkGatt!#REF! -> #REF! | D34: 1 | E34: 10000 | F34: =+VerkGatt!#REF! -> #REF! | G34: =+VerkGatt!#REF! -> #REF! | H34: =+VerkGatt!#REF! -> #REF! | I34: =+VerkGatt!#REF! -> #REF!
B35: =+VerkGatt!C11 -> 154 | C35: =+VerkGatt!E11 -> 20 | D35: 1 | E35: 10000 | F35: =+VerkGatt!V11 -> 44562 | G35: =+VerkGatt!W11 -> 45639 | H35: =+VerkGatt!#REF! -> #REF! | I35: =+VerkGatt!#REF! -> #REF!
B36: =+VerkGatt!#REF! -> #REF! | C36: =+VerkGatt!#REF! -> #REF! | D36: 1 | E36: 10000 | F36: =+VerkGatt!#REF! -> #REF! | G36: =+VerkGatt!#REF! -> #REF! | H36: =+VerkGatt!#REF! -> #REF! | I36: =+VerkGatt!#REF! -> #REF!
B37: =+VerkGatt!C12 -> 154 | C37: =+VerkGatt!E12 -> 104 | D37: 1 | E37: 10000 | F37: =+VerkGatt!V12 -> 44562 | G37: =+VerkGatt!W12 -> 45639 | H37: =+VerkGatt!#REF! -> #REF! | I37: =+VerkGatt!#REF! -> #REF!
B38: =+VerkGatt!C13 -> 154 | C38: =+VerkGatt!E13 -> 103 | D38: 1 | E38: 10000 | F38: =+VerkGatt!V13 -> 44562 | G38: =+VerkGatt!W13 -> 45639 | H38: =+VerkGatt!#REF! -> #REF! | I38: =+VerkGatt!#REF! -> #REF!
B39: =+VerkGatt!C14 -> 154 | C39: =+VerkGatt!E14 -> 105 | D39: 1 | E39: 10000 | F39: =+VerkGatt!V14 -> 44562 | G39: =+VerkGatt!W14 -> 54788 | H39: =+VerkGatt!#REF! -> #REF! | I39: =+VerkGatt!#REF! -> #REF!
B40: =+VerkGatt!C15 -> 154 | C40: =+VerkGatt!E15 -> 41 | D40: 1 | E40: 10000 | F40: =+VerkGatt!V15 -> 44562 | G40: =+VerkGatt!W15 -> 54788 | H40: =+VerkGatt!#REF! -> #REF! | I40: =+VerkGatt!#REF! -> #REF!
...

Sheet Befüllungsvorgabe VN_PLZ_ORT
D2: Befüllungsvorgabe SA 11 / Feld VN-PLZ-ORT
D3: 01 | E3: 02 | F3: 03 | G3: 04 | H3: 05 | I3: 06 | J3: 07 | K3: 08 | L3: 09 | M3: 10 | N3: 11 | O3: 12 | P3: 13 | Q3: 14 | R3: 15 | S3: 16 | T3: 17 | U3: 18 | V3: 19 | W3: 20 | X3: 21 | Y3: 22 | Z3: 23 | AA3: 24 | AB3: 25 | AC3: 26 | AD3: 27 | AE3: 28 | AF3: 29 | AG3: 30
C4: bei Verkauf Länderticket | I4: 0 | J4: 3 | K4: 9
I5: Verkehrnummer des Verbundes am Verkaufsort
C6: bei Verkauf Deutschlandticket | D6: D | E6: E | I6: 3 | J6: 4 | K6: 1 | L6: 2 | M6: 3
D7: Länder-kennung | I7: PLZ des Reisenden
C8: sonst

Sheet generelle Info
A1: Es werden Textdateien mit fester Satzlänge im ISO/IEC 8859-1 Zeichensatz (ohne nicht darstellbare Steuerzeichen) erwartet.
A2: Jede Zeile endet mit einem Zeilenumbruch im UNIX-Format (nur Linefeed, auch bei dem abschließenden md5-Prüfsummensatz).
A3: Um die Integrität der Abrechnungsdaten sicherzustellen, wird am Ende jeder Datei ein Prüfsummensatz auf Basis des sha3-256-Hashcodes erwartet (Aufbau wird noch im Detail kommuniziert).
A4: Dateinamenskonvention:
B5: <Kürzel der Datenquelle>_SA11_T<jjmmtt>
B6: <Kürzel der Datenquelle>_SA32_T<jjmmtt>
B7: Das Kürzel muss noch definiert werden (max. 8 Zeichen)
A8: Die Dateien werden täglich erwartet. Liegen keine Abrechnungsdaten vor, so ist eine Datei zu erzeugen, die nur den sha3-256-Prüfsummensatz enthält.
A9: Adresse DB Filetransfergateway (FTGW, Übertragung per sftp)
B10: Weitere Details wie Benutzername, Passwort, Verzeichnisse, etc. werden in den Abstimmungen kommuniziert.
A11: Die Abrechnungsdaten des Vortages müssen bis 3:00 Uhr des aktuellen Tages im FTGW abgelegt sein.

Sheet Kontrolldatensatz
B1: Erwartete Struktur des Kontrollsummensatzes, welcher an jeder zu liefernden Datei anzufügen ist.
A3: Nr. | B3: Feld-Bezeichnung | C3: Länge | D3: Inhalt
A4: 1 | B4: VN-SATZKENNUNG | C4: C 4 | D4: KSVS – Kontrollsatz Verkaufsdatensätze
A5: 2 | B5: VN-ANZ-SAETZE | C5: N 9 | D5: Anzahl Verkaufsdatensätze in der Datei (ohne Kontrollsatz)
A6: 3 | B6: VN-CHECK-WERT | C6: C 64 | D6: Kontrollwert: SHA3-256 Summe der Datei (nur Nutzung von Kleinbuchstaben und Ziffern, Basis sind Verkaufsdatensätze in der Datei ohne Kontrolldatensatz).
A7: 4 | B7: VN-HASH-WERT | C7: C 64 | D7: Aktuell: Blank Reserviert für künftige Nutzung
A8: 5 | B8: VN-FILLER-1 | C8: C x | D8: Blank (aufgefüllt auf die jeweilige Satzlänge)

Sheet SA32
B1: SA32 - Struktur für relationsbasierte Fahrscheine
A2: Nr. | B2: Feld-Bezeichnung | C2: Länge | D2: Inhalt | E2: Hin/Rück | F2: Beispiel | G2: Anmerkungen | H2: Pflichtfeld | I2: Memo
A3: 001 | B3: VN-SATZKENNUNG | C3: C 4 | D3: Default | E3: Allgemein | F3: DTVD | G3: ="Fixer Wert ('"&F3&"')" -> Fixer Wert ('DTVD')
A4: 002 | B4: VN-SATZART | C4: N 2 | D4: Default | E4: Allgemein | F4: 32 | G4: ="Fixer Wert ('"&F4&"')" -> Fixer Wert ('32')
A5: 003 | B5: VN-CODE-NR | C5: N 3 | D5: Default | E5: Allgemein | F5: 021 | G5: ="Fixer Wert ('"&F5&"')" -> Fixer Wert ('021')
A6: 004 | B6: VN-KZ-BUCHUNGSART | C6: C 1 | D6: Enum | E6: Allgemein | F6: 0 | G6: 0=Verkauf und 2=Storno
A7: 005 | B7: VN-KZ-DRUCK | C7: C 1 | D7: Enum | E7: Allgemein | F7: 0 | G7: ="Fixer Wert ('"&F7&"')" -> Fixer Wert ('0')
A8: 006 | B8: VN-UNSICHERHEITS-KZ | C8: C 1 | D8: Default | E8: Allgemein | F8: 0 | G8: ="Fixer Wert ('"&F8&"')" -> Fixer Wert ('0')
A9: 007 | B9: VN-DIENSTSTELLE | C9: N 6 | D9: Variable | E9: Allgemein | G9: Nummer der verkaufenden Vertriebsstelle: konstanter individueller Wert pro Partner (z.B. '534974')
A10: 008 | B10: VN-SCHALTER | C10: N 3 | D10: Variable | E10: Allgemein | F10: 099 | G10: Nummer des verkaufenden Vertriebsgerätes: individueller Wert pro Partner (z.B. '099')
A11: 009 | B11: VN-AUSGABESTELLE | C11: N 6 | D11: Variable | E11: Allgemein | F11: 000000 | G11: Nummer der verkaufenden Vertriebsstelle (Sonderfälle, bspw. Rücknahme: Nummer der rücknehmenden Vertriebsstelle)'gleiche Anmerkung wie Feld 007, Füllung nur bei Storno, ansonsten 0 | I11: Nummer der verkaufenden Vertriebsstelle (Sonderfälle, bspw. Rücknahme: Nummer der rücknehmenden Vertriebsstelle)
A12: 010 | B12: VN-AUSGABE-SCHALTER | C12: N 3 | D12: Variable | E12: Allgemein | F12: 000 | G12: gleiche Anmerkung wie Feld 008 nur bei Storno, ansonsten 0 | I12: Nummer des verkaufenden Vertriebsgeräts (Sonderfälle, bspw. Rücknahme: Nummer des rücknehmenden Vertriebsgerätes
A13: 011 | B13: VN-SCHICHT | C13: N 3 | D13: Variable | E13: Allgemein | F13: 000 | G13: ="Fixer Wert ('"&F13&"')" -> Fixer Wert ('000') | I13: Nummer der Schicht, in der der Datensatz erzeugt wurde
A14: 012 | B14: VN-BEDIENER | C14: N 4 | D14: Variable | E14: Allgemein | F14: 0000 | G14: ="Fixer Wert ('"&F14&"')" -> Fixer Wert ('0000') | I14: Nummer des Bedieners, der den Verkauf, die Rücknahme durchgeführt hat
A15: 013 | B15: VN-AUSGABEDATUM | C15: C 6 | D15: Variable | E15: Allgemein | F15: 200825 | G15: mussfeld, Prüfung plausible Werte. Eintrag muss Datumsformat haben, z.B. 200320 | H15: ja | I15: Datum, an dem der Verkaufsdatensatz erzeugt wurde Format: JJMMTT
A16: 014 | B16: VN-AUSGABEZEIT | C16: N 6 | D16: Variable | E16: Allgemein | F16: 091045 | G16: mussfeld, Prüfung plausible Werte, | H16: ja | I16: Zeitpunkt, an dem der Verkaufsdatensatz geschrieben wurde Format: HHMMSS
A17: 015 | B17: VN-RECHNUNGSMONAT | C17: N 2 | D17: Variable | E17: Allgemein | F17: 08 | G17: mussfeld, Prüfung plausible Werte | H17: ja | I17: Rechnungsmonat, in dem die Schicht eröffnet wurde Format MM
A18: 016 | B18: VN-FAMUSTER-NR | C18: N 4 | D18: Enum | E18: Allgemein | F18: 6078 | G18: ="Fixer Wert ('"&F18&"')" -> Fixer Wert ('6078') | I18: Wert aus Liste von Konstanten
A19: 017 | B19: VN-BELEG-NR | C19: N 8 | D19: Variable | E19: Allgemein | F19: 12345678 | G19: Pflichtfeld aus steuerlichen Gründen; Die Belegnummer muss für die Kombination Dienstelle&Schalter&Ausgabedatum eindeutig sein. | H19: ja | I19: Nummer des erstellten Beleges; beim Stornodatensatz muss die Belegnummer identisch mit der Belegnummer des dazu gehörenden Buchungsdatensatzes sein.
A20: 018 | B20: VN-1-GELTUNGSTAG | C20: C 6 | D20: Variable | E20: Allgemein | F20: 200825 | G20: Pflchtfeld Prüfung plausible Werte. | I20: erster Geltungstag des Fahrscheins Format: JJMMTT
A21: 019 | B21: VN-LETZTER-GELTUNGSTAG | C21: C 6 | D21: Variable | E21: Allgemein | F21: 200825 | G21: Pflichtfeld Prüfung plausible Werte. | H21: ja | I21: letzter Geltungstag des FahrscheinsFormat: JJMMTT
A22: 020 | B22: VN-VERKEHR-BINNEN | C22: N 3 | D22: Enum | E22: Allgemein | F22: 302 | G22: Pflichtfeld, siehe Tabelle "VerkGatt" | H22: ja | I22: Wert aus einer Liste von Konstanten kennzeichnet den konkreten Tarif, Abrechnungsstelle braucht die Angebotsmatrix zur Erstellung der Zuordnung zu diesem Feld
A23: 021 | B23: VN-GATTUNG-DB | C23: N 3 | D23: Enum | E23: Allgemein | F23: 001 | G23: Pflichtfeld, siehe Tabelle "VerkGatt" | H23: ja | I23: Wert aus einer Liste von Konstanten kennzeichnet das konkrete Angebot, Abrechnungsstelle braucht die Angebotsmatrix zur Erstellung der Zuordnung zu diesem Feld
A24: 022 | B24: VN-ERMAESSIGUNGSART-DB | C24: N 2 | D24: Enum | E24: Allgemein | F24: 01 | G24: Pflichtfeld, siehe Tabelle "Ermäßigung" | H24: ja | I24: Wert aus Liste von Konstanten Kennzeichnet die Ermäßigung (z.B. BahnCard), Abrechnungsstelle braucht die Angebotsmatrix zur Erstellung der Zuordnung zu diesem Feld
A25: 023 | B25: VN-KLASSE-DB | C25: N 1 | D25: Enum | E25: Allgemein | F25: 2 | G25: Pflichtfeld, siehe Tabelle "Klasse" | H25: ja | I25: Wert aus Liste von Konstanten, Abrechnungsstelle braucht die Angebotsmatrix zur Erstellung der Zuordnung zu diesem Feld
A26: 024 | B26: VN-VERKAUFSART | C26: N 2 | D26: Enum | E26: Allgemein | F26: 13 | G26: Pflichtfeld, siehe Tabelle "Verkaufsart" | H26: ja | I26: Wert aus Liste von Konstanten
A27: 025 | B27: VN-KUNDEN-NR | C27: N 7 | D27: Variable | E27: Allgemein | F27: 0000000 | G27: ="Fixer Wert ('"&F27&"')" -> Fixer Wert ('0000000') | I27: Konstante = 0000000; ABO Kundennummer, sonst Konstante = 0
A28: 026 | B28: VN-ZUSATZANGABEN | C28: N 8 | D28: Default | E28: Allgemein | F28: 00000000 | G28: ="Fixer Wert ('"&F28&"')" -> Fixer Wert ('00000000') | I28: Konstante = 00000000
A29: 027 | B29: VN-AKQUIRIERENDE-DST | C29: N 6 | D29: Variable | E29: Allgemein | F29: 000000 | G29: ="Fixer Wert ('"&F29&"')" -> Fixer Wert ('000000') | I29: Konstante = 000000; Vertriebsstelle, für die der Fahrschein erstellt wurde
A30: 028 | B30: VN-ENTFERNUNG-DB | C30: N 4 | D30: Variable | E30: Allgemein | F30: 0030 | G30: Tarifkm Füllung durch EVU/Tarifkm C-Preis ohne Anstoß/Summe aus Hin und Rückfahrt/Gesamtentfernung (Bei Hin und Rückfahrt Dopplung) | I30: Gesamtentfernung DB (KM aus Hinfahrt und Rückfahrt) | J30: => Für Hin- und Rückfahrt werden hier die Kilometer addiert.
A31: 029 | B31: VN-GESAMTERLOES | C31: N 6,2 | D31: Variable | E31: Allgemein | F31: 00001450 | G31: Ticketwert in Euro und Cent ohne Komma | I31: Gesamtpreis des Fahrscheins Summe der Felder VN-FAHRGELDANTEIL-DB und VN-FAHRGELDANTEIL-3TE.
A32: 030 | B32: VN-FAHRGELDANTEIL-DB | C32: N 6,2 | D32: Variable | E32: Allgemein | F32: 00001450 | G32: Wert der Strecke DB ohne NE Anstoß (entspricht Gesamterlös ohne NE Anstoß) | I32: Fahrgeldanteil der DB
A33: 031 | B33: VN-KOSTENZUSCHLAG-DB | C33: N 6,2 | D33: Default | E33: Allgemein | F33: 00000000 | G33: ="Fixer Wert ('"&F33&"')" -> Fixer Wert ('00000000') | I33: Konstante
A34: 032 | B34: VN-FAHRGELDANTEIL-3TE | C34: N 6,2 | D34: Variable | E34: Allgemein | F34: 00000000 | G34: Wert der Strecke NE Anstoß | I34: Fahrgeldanteil Dritte (NE, SEE)
A35: 033 | B35: VN-KOSTENZUSCHLAG-3TE | C35: N 6,2 | D35: Default | E35: Allgemein | F35: 00000000 | G35: ="Fixer Wert ('"&F35&"')" -> Fixer Wert ('00000000') | I35: Konstante
A36: 034 | B36: VN-SONSTIGE-EINNAHMEN | C36: N 6,2 | D36: Default | E36: Allgemein | F36: 00000000 | G36: ="Fixer Wert ('"&F36&"')" -> Fixer Wert ('00000000') | I36: Konstante
A37: 035 | B37: VN-VERKAEUFERPROV | C37: N 3,2 | D37: Default | E37: Allgemein | F37: 00000 | G37: ="Fixer Wert ('"&F37&"')" -> Fixer Wert ('00000') | I37: Konstante
A38: 036 | B38: VN-PREISNACHLASS | C38: N 2,3 | D38: Default | E38: Allgemein | F38: 00000 | G38: ="Fixer Wert ('"&F38&"')" -> Fixer Wert ('00000') | I38: Konstante
A39: 037 | B39: VN-ZAHLUNGSART | C39: N 2 | D39: Enum | E39: Allgemein | F39: 51 | G39: Pflichtfeld, siehe Tabelle "Zahlungsart" | H39: ja | I39: Wert aus Liste von Konstanten
A40: 038 | B40: VN-ERWACHSENE | C40: N 3 | D40: Variable | E40: Allgemein | F40: 001 | G40: Füllung mit tatsächlicher Anzahl (z.B. 001 bei einem Erwachsenen) | I40: Anzahl Erwachsene
...

Sheet SA32Beispiel
A1: Spalte1
A2: EFVA32021000665067904000000000593000020082508090408610338692800200825200825302001192050000000000000006650670131000028000000280000000000000000000000000000000000000000000055001000000000000000000100000000200000000000000010000001000000 0000000000000000302001032000012403000000000000000000000000000000032000012400131000014002000020000000000000000000000000000000000030200100124032000300000000000000000000000000000000124032000013100001400200002000000000000000000000000000000000000000000000000000000000000000000000000000000000000000000000000000000000000000000000000000000000000
A3: EFVA32021000665067909000000000256000020123122454912610372714414201231210101302001012050000000000000006650670131000028700000287000000000000000000000000000000000000000000051001000000000000000000100000000100000000000000000000001000000 0000000000000000302001032000012403000000000000000000000000000000032000012400131000028702000020000000000000000000000000000000000000000000000000000000000000000000000000000000000000000000000000000000000000001000000000000000000000000000000000000000000000000000000000000000000000000000000000000000000000000000000000000000000000000000000000000
A4: EFVA32021000665703901000000000684000021013118244501610328613322210201210207001055012050000000000000006657030044000065300000653000000000000000000000000000000000000000000051001000000000000000000100000000100000000000000000000001000000 0000000000000005001055127631033803000000000000000000000000000000103381033800044000065302000020000000000000000000000000000000000000000000000000000000000000000000000000000000000000000000000000000000000000001000000000000000000000000000000000000000000000000000000000000000000000000000000000000000000000000000000000000000000000000000000000000
B8: Flexpreis H+R | C8: Flexpreis H | D8: Wochenkarte
A9: VN-SATZKENNUNG | B9: EFVA | C9: EFVA | D9: EFVA
A10: VN-SATZART | B10: 32 | C10: 32 | D10: 32
A11: VN-CODE-NR | B11: 021 | C11: 021 | D11: 021
A12: VN-KZ-BUCHUNGSART | B12: 0 | C12: 0 | D12: 0
A13: VN-KZ-DRUCK | B13: 0 | C13: 0 | D13: 0
A14: VN-UNSICHERHEITS-KZ | B14: 0 | C14: 0 | D14: 0
A15: VN-DIENSTSTELLE | B15: 665067 | C15: 665067 | D15: 665703
A16: VN-SCHALTER | B16: 904 | C16: 909 | D16: 901
A17: VN-AUSGABESTELLE | B17: 000000 | C17: 000000 | D17: 000000
A18: VN-AUSGABE-SCHALTER | B18: 000 | C18: 000 | D18: 000
A19: VN-SCHICHT | B19: 593 | C19: 256 | D19: 684
A20: VN-BEDIENER | B20: 0000 | C20: 0000 | D20: 0000
... A60: VN-ZUG-NR | B60: 00000 | C60: 00000 | D60: 00000
A61: VN-KARTEN-NR
A62: VN-BUCHUNGS-NR | B62: 00000 | C62: 00000 | D62: 00000
A63: VN-BORDPREIS | B63: 00000000 | C63: 00000000 | D63: 00000000
A64: VN-BORDPREIS-MWST-KZ | B64: 0 | C64: 0 | D64: 0
A65: VN-MONAT-ODER-WOCHE | B65: 00 | C65: 00 | D65: 05
A66: VN-H-VERK-DB | B66: 302 | C66: 302 | D66: 001
A67: VN-H-GATT-DB | B67: 001 | C67: 001 | D67: 055
A68: VN-H-IBNR-ABG-DB | B68: 03200 | C68: 03200 | D68: 12763
A69: VN-H-IBNR-ZIEL-DB | B69: 00124 | C69: 00124 | D69: 10338
A70: VN-H-PROD-KZ | B70: 03 | C70: 03 | D70: 03
A71: VN-H-IBNR-FV-IBV | B71: 00000 | C71: 00000 | D71: 00000
A72: VN-H-IBNR-FV-IBN | B72: 00000 | C72: 00000 | D72: 00000
A73: VN-H-IBNR-FV-LP1 | B73: 00000 | C73: 00000 | D73: 00000
... A141: VN-ABO-VERTRAGS-NR | B141: 0000 | C141: 0000 | D141: 0000
A142: VN-BUS-VON
A143: VN-BUS-NACH

Sheet SA11
B1: SA11 - Struktur für relationslose Fahrscheine | I1: Länge | J1: kum Länge
A2: Nr. | B2: Feld-Bezeichnung | C2: Länge | D2: Inhalt | E2: Vorlage | F2: Anmerkungen | G2: Memo
A3: 001 | B3: VN-SATZKENNUNG | C3: C 4 | D3: Default | E3: DTVD | F3: Fixer Wert ("DTVD") | I3: 4 | J3: =+I3 -> 4
A4: 002 | B4: VN-SATZART | C4: N 2 | D4: Default | E4: 11 | F4: Fixer Wert ("11") | I4: 2 | J4: =+I4+J3 -> 6
A5: 003 | B5: VN-CODE-NR | C5: N 3 | D5: Default | E5: 021 | F5: Fixer Wert ("021") | I5: 3 | J5: =+I5+J4 -> 9
A6: 004 | B6: VN-KZ-BUCHUNGSART | C6: C 1 | D6: Enum | F6: 0=Verkauf und 2=Storno | I6: 1 | J6: =+I6+J5 -> 10
A7: 005 | B7: VN-KZ-DRUCK | C7: C 1 | D7: Enum | E7: 0 | F7: Fixer Wert | G7: 0=Keine Unregelmäßigkeiten | I7: 1 | J7: =+I7+J6 -> 11
A8: 006 | B8: VN-UNSICHERHEITS-KZ | C8: C 1 | D8: Default | E8: 0 | F8: Fixer Wert | I8: 1 | J8: =+I8+J7 -> 12
A9: 007 | B9: VN-DIENSTSTELLE | C9: N 6 | D9: Variable | F9: Individueller Wert pro Partner /TK bzw. TuVK Vertrag | I9: 6 | J9: =+I9+J8 -> 18
A10: 008 | B10: VN-SCHALTER | C10: N 3 | D10: Variable | F10: In Klärung: individueller Wert lt. DB P (Vorgabe DB), kann fixer Wert pro Partner sein | I10: 3 | J10: =+I10+J9 -> 21
A11: 009 | B11: VN-AUSGABESTELLE | C11: N 6 | D11: Variable | F11: bei Storno (VN-KZ-BUCHUNGSART =2) erwartete Füllung aus Feld 007 sonst 000000 | I11: 6 | J11: =+I11+J10 -> 27
A12: 010 | B12: VN-AUSGABE-SCHALTER | C12: N 3 | D12: Variable | F12: bei Storno (VN-KZ-BUCHUNGSART =2) erwartete Füllung aus Feld 008 sonst 000 | I12: 3 | J12: =+I12+J11 -> 30
A13: 011 | B13: VN-SCHICHT | C13: N 3 | D13: Variable | E13: 000 | F13: Fixer Wert | I13: 3 | J13: =+I13+J12 -> 33
A14: 012 | B14: VN-BEDIENER | C14: N 4 | D14: Variable | E14: 0000 | F14: Fixer Wert | I14: 4 | J14: =+I14+J13 -> 37
A15: 013 | B15: VN-AUSGABEDATUM | C15: C 6 | D15: Variable | E15: 201110 | F15: Prüfung plausible Werte. Eintrag muss Datumsformat haben, z.B. 200320 | I15: 6 | J15: =+I15+J14 -> 43
A16: 014 | B16: VN-AUSGABEZEIT | C16: N 6 | D16: Variable | E16: 100525 | F16: Prüfung plausible Werte, | I16: 6 | J16: =+I16+J15 -> 49
A17: 015 | B17: VN-RECHNUNGSMONAT | C17: N 2 | D17: Variable | E17: 11 | F17: Prüfung plausible Werte | I17: 2 | J17: =+I17+J16 -> 51
A18: 016 | B18: VN-FAMUSTER-NR | C18: N 4 | D18: Enum | E18: 6078 | F18: Fixer Wert (laut Spalte G) | I18: 4 | J18: =+I18+J17 -> 55
A19: 017 | B19: VN-BELEG-NR | C19: N 8 | D19: Variable | E19: 22554789 | F19: Pflichtfeld aus steuerlichen Gründen; Die Belegnummer muss für die Kombination Dienstelle&Schalter&Ausgabedatum eindeutig sein. | G19: Nummer des erstellten Beleges; beim Stornodatensatz muss die Belegnummer identisch mit der Belegnummer des dazu gehörenden Buchungsdatensatzes sein. | I19: 8 | J19: =+I19+J18 -> 63
A20: 018 | B20: VN-1-GELTUNGSTAG | C20: C 6 | D20: Variable | E20: 201115 | F20: Prüfung plausible Werte. | I20: 6 | J20: =+I20+J19 -> 69
A21: 019 | B21: VN-LETZTER-GELTUNGSTAG | C21: C 6 | D21: Variable | E21: 201115 | F21: Prüfung plausible Werte. | I21: 6 | J21: =+I21+J20 -> 75
A22: 020 | B22: VN-VERKEHR-BINNEN | C22: N 3 | D22: Enum | E22: 001 | F22: Pflichtfeld, siehe Tabelle "VerkGatt" | I22: 3 | J22: =+I22+J21 -> 78
A23: 021 | B23: VN-GATTUNG-DB | C23: N 3 | D23: Enum | E23: 031 | F23: Pflichtfeld, siehe Tabelle "VerkGatt" | I23: 3 | J23: =+I23+J22 -> 81
A24: 022 | B24: VN-ERMAESSIGUNGSART-DB | C24: N 2 | D24: Enum | E24: 01 | F24: Pflichtfeld, siehe Tabelle "Ermäßigung" | I24: 2 | J24: =+I24+J23 -> 83
A25: 023 | B25: VN-KLASSE-DB | C25: N 1 | D25: Enum | E25: 2 | F25: Pflichtfeld, siehe Tabelle "Klasse" | I25: 1 | J25: =+I25+J24 -> 84
A26: 024 | B26: VN-VERKAUFSART | C26: N 2 | D26: Enum | E26: 05 | F26: Pflichtfeld, siehe Tabelle "Verkaufsart" | I26: 2 | J26: =+I26+J25 -> 86
A27: 025 | B27: VN-KUNDEN-NR | C27: N 7 | D27: Variable | E27: 0000000 | F27: Fixer Wert | I27: 7 | J27: =+I27+J26 -> 93
A28: 026 | B28: VN-ZUSATZANGABEN | C28: N 8 | D28: Default | E28: 00000000 | F28: Fixer Wert | I28: 8 | J28: =+I28+J27 -> 101
A29: 027 | B29: VN-AKQUIRIERENDE-DST | C29: N 6 | D29: Variable | E29: 000000 | F29: Fixer Wert | I29: 6 | J29: =+I29+J28 -> 107
A30: 028 | B30: VN-ENTFERNUNG-DB | C30: N 4 | D30: Variable | E30: 0000 | F30: Fixer Wert | I30: 4 | J30: =+I30+J29 -> 111
A31: 029 | B31: VN-GESAMTERLOES | C31: N 5,2 | D31: Variable | E31: 0003500 | F31: Ticketwert in Euro und Cent ohne Komma | I31: 7 | J31: =+I31+J30 -> 118
... A38: 036 | B38: VN-PREISNACHLASS | C38: N 2,3 | D38: Default | E38: 00000 | F38: Fixer Wert | I38: 5 | J38: =+I38+J37 -> 163
A39: 037 | B39: VN-ZAHLUNGSART | C39: N 2 | D39: Enum | E39: 51 | F39: Pflichtfeld, siehe Tabelle "Zahlungsart" | I39: 2 | J39: =+I39+J38 -> 165
A40: 038 | B40: VN-ERWACHSENE | C40: N 2 | D40: Variable | E40: 01 | F40: Füllung mit tatsächlicher Anzahl (z.B. 01 bei einem Erwachsenen) | I40: 2 | J40: =+I40+J39 -> 167
A41: 039 | B41: VN-KINDER | C41: N 2 | D41: Variable | E41: 00 | F41: Füllung mit tatsächlicher Anzahl | I41: 2 | J41: =+I41+J40 -> 169
A42: 040 | B42: VN-UNENTGELTLICH | C42: N 2 | D42: Variable | E42: 00 | F42: Füllung mit tatsächlicher Anzahl | G42: Anzahl unentgeltlich beförderte Personen, sofern eingegeben (z. B. Begleiter von Blinden dargestellt, keine Familienkinder) | I42: 2 | J42: =+I42+J41 -> 171
A43: 041 | B43: VN-VERKAUFSANW | C43: N 7 | D43: Default | E43: 0000000 | F43: Fixer Wert | I43: 7 | J43: =+I43+J42 -> 178
A44: 042 | B44: VN-ART-DER-KARTE | C44: N 2 | D44: Default | E44: 00 | F44: Fixer Wert | I44: 2 | J44: =+I44+J43 -> 180
A45: 043 | B45: VN-ANZAHL-VERK-KARTEN | C45: N 4 | D45: Default | E45: 0001 | F45: Fixer Wert | I45: 4 | J45: =+I45+J44 -> 184
A46: 044 | B46: VN-ERLOES-JE-KARTE | C46: N 5,2 | D46: Variable | E46: 0000000 | F46: Fixer Wert | I46: 7 | J46: =+I46+J45 -> 191
...

Sheet SA11Beispiel
A1: Column1
A2: EFVA11021000620385904205898001612000020123109211412610368711952201231201231001241012050000000000000000000000000000700000070000000000000000000000000000000000000000051050000000000000000100000000000000000000001
B6: QDL
A7: VN-SATZKENNUNG | B7: EFVA
A8: VN-SATZART | B8: 11
A9: VN-CODE-NR | B9: 021
A10: VN-KZ-BUCHUNGSART | B10: 0
A11: VN-KZ-DRUCK | B11: 0
A12: VN-UNSICHERHEITS-KZ | B12: 0
A13: VN-DIENSTSTELLE | B13: 620385
A14: VN-SCHALTER | B14: 904
A15: VN-AUSGABESTELLE | B15: 205898
A16: VN-AUSGABE-SCHALTER | B16: 001
A17: VN-SCHICHT | B17: 612
A18: VN-BEDIENER | B18: 0000
... A54: VN-ANGEBOTSGRUPPE | B54: 01
A55: VN-NAME-VORNAME
A56: VN-STRASSE-HAUS-NR
A57: VN-PLZ-ORT

Sheet Steuerkennzeichen
A1: Kennzeichen | B1: Beschreibung | C1: UMSATZSTEUERSATZ
A2: AE | B2: Lieferungen und sonstige Leistungen zum erm. Steuersatz 7 % | C2: 7
A3: X0 | B3: Nichtsteuerbare Leistungen an Organgesellschaften | C3: 0
A4: 09 | B4: Umsatzsteuer unbekannt | C4: 0
A5: AV | B5: Lieferungen und sonst. Leistungen zum allgem Steuersatz 19 % | C5: 19
A6: AN | B6: Nichtsteuerbare Lieferungen u.sonstige Leistungen | C6: 0

Sheet Testportfolio
A1: NR | B1: Angebot | C1: Verkehr | D1: Gattung | E1: Testfall | F1: H&R | G1: Verkauf | H1: Storno VDS | I1: Beteiligung Anstoßverkehr NE
A2: 1 | B2: Flexpreis | C2: 302 | D2: 001 | E2: Erw. BC 25, 2. KL | F2: Hin | G2: x
A3: 2 | B3: Flexpreis | C3: 302 | D3: 001 | E3: 2 Erw. 1x BC25 1 Fam.Kind 2. Kl | F3: Hin&Rück | G3: x | I3: ja
A4: 3 | B4: Flexpreis | C4: 302 | D4: 001 | E4: Kind 1. KL | F4: Hin&Rück | G4: x | H4: x
A5: 4 | B5: Flexpreis | C5: 302 | D5: 001 | E5: Kind BC 25 2. KL | F5: Hin | G5: x
A6: 5 | B6: Flexpreis | C6: 302 | D6: 001 | E6: Erw. BC 50 1. Kl | F6: Hin&Rück | G6: x | H6: x | I6: ja
A7: 6 | B7: Flexpreis | C7: 302 | D7: 001 | E7: 2 Erw. 2x BC 50 2. Kl 2 Fam.Kinder | F7: Hin&Rück | G7: x | I7: ja
A8: 7 | B8: QDL Quer-Durchs-Land | C8: 001 | D8: 240 | E8: 1 Erw | G8: x
A9: 8 | B9: QDL Quer-Durchs-Land | C9: 001 | D9: 240 | E9: 3 Erw. | G9: x | H9: x
A10: 9 | B10: Bayern-Hopper-Ticket | C10: 003 | D10: 180 | E10: 1 Person | G10: x
A11: 10 | B11: Bayern-Hopper-Ticket | C11: 003 | D11: 180 | E11: 1 Person | G11: x | H11: x | I11: ja
A12: 11 | B12: Bayern-Ticket | C12: 003 | D12: 170 | E12: 1 Person | G12: x | H12: x
A13: 12 | B13: Bayern-Ticket | C13: 003 | D13: 170 | E13: 2 Person | G13: x
A14: 13 | B14: Wochenkarte | C14: 001 | D14: 254 | E14: 2.Klasse | G14: x | H14: x
A15: 14 | B15: Monatskarte | C15: 001 | D15: 250 | E15: 1.Klasse | G15: x | H15: x
A16: 15 | B16: Pers Wochenkarte | C16: 001 | D16: 055 | E16: 1. Klasse | G16: x
A17: 16 | B17: Pers Monatskarte | C17: 001 | D17: 050 | E17: 2. Klasse | G17: x
A18: 17 | B18: Schülerwochenkarte | C18: 001 | D18: 066 | E18: 2. Klasse | G18: x | H18: x
A19: 18 | B19: Schülermonatskarte | C19: 001 | D19: 060 | E19: 2. Klasse | G19: x | H19: x
A20: 19 | B20: Fahrradtageskarte NV | C20: 001 | D20: 097 | G20: x | H20: x
A21: 20 | B21: REGIO120PLUS Ticket | C21: 003 | D21: 271 | E21: 2. Klasse | F21: Hin | G21: x
A22: 21 | B22: FK ZUR WEITERFAHRT | C22: 302 | D22: 003 | F22: Hin
A23: 22 | B23: PRAG SPEZ.ONEWAY N-P | C23: 001 | D23: 592 | E23: 1Erw | G23: x
A24: 23 | B24: PRAG SPEZ. RETURN M | C24: 001 | D24: 594 | E24: 2 Erw | G24: x | H24: x
A25: 24 | B25: SAAR-ELSASS-TICKET | C25: 001 | D25: 219 | E25: 2 Erw | G25: x
A26: 25 | B26: REGIO120PLUS TICKET | C26: 003 | D26: 271 | E26: 1 Erw. | G26: x | H26: x
A27: 26 | B27: REGIO120 TICKET | C27: 003 | D27: 270 | E27: 2 Personen | G27: x | H27: x
A28: 27 | B28: STADT-LAND-MEER-T HR | C28: 003 | D28: 318 | E28: 2 Erw. 2 Fam. Kinder | G28: x
A29: 28 | B29: SCHLESWIG-HOLSTEIN-T | C29: 003 | D29: 560 | E29: 3 Personen | G29: x | H29: x
A30: 29 | B30: HOPPER-TI. TH EF PB | C30: 003 | D30: 068 | E30: 1 Erw | G30: x | H30: x
A31: 30 | B31: HOPPER-T.TH H+R PB | C31: 003 | D31: 069 | E31: 1 Erw. | G31: x
B35: Info Regio 120 Ticket:
B56: Merker: alleinreisende Kinder werden wie Erwachsene behandelt

Sheet Tarifsicht
A1: Tarifteil | C1: Angebots-ID | D1: Produktnummer | E1: Angebot | F1: zuständiges Gremium | G1: Zuordnung | H1: Ablaufdatum | I1: DTV Abrechnung | J1: Online | K1: Mobile | L1: PbV | M1: Automat | N1: Zug | O1: Abo | P1: Bemerkungen
A2: Grund | B2: A | C2: 200 | E2: Normalpreis | F2: Fachbeirat | G2: Kernsortiment | H2: open End | I2: ja | J2: ja | K2: ja | L2: ja | M2: ja | N2: ja | O2: nein
B3: A | C3: 201 | E3: Gruppenpreis DT | F3: Fachbeirat | G3: Kernsortiment | H3: open End | I3: ja | J3: ja | K3: ja | L3: ja | M3: ja | N3: nein | O3: nein
A4: Sonder | B4: B | C4: 202 | E4: Solidarity Ticket | F4: Fachbeirat | G4: Kernsortiment | H4: open End | I4: ja | J4: nein | K4: nein | L4: ja | M4: nein | N4: ja | O4: nein
A5: Tarifteil C - Zeitkarten | B5: D-Ticket | C5: 172 | D5: 9999 | E5: Deutschland-Ticket | F5: Fachbeirat | G5: Deutschland-Ticket | H5: open End | I5: ja | J5: nein | K5: ja | L5: nur mit Barcode | M5: nein | N5: nein | O5: ja
B6: D-Ticket | C6: 175 | E6: ermäßigte Deutschland-Ticket (z.B. Semesterticket) | F6: Fachbeirat | G6: Deutschland-Ticket | H6: open End | I6: ja | J6: nein | K6: ja | L6: nein | M6: nein | N6: nein | O6: ja
B7: D-Ticket | C7: 183 | E7: Deutschlandsemesterticket im Vollsolidarmodell | F7: Fachbeirat | G7: Deutschland-Ticket | H7: open End | I7: ja | J7: nein | K7: ja | L7: nein | M7: nein | N7: nein | O7: ja | P7: Universitäten liefern Zugangsberechtigungen. Bei der Ausgabe des D-Semestertickets wird die Berechtigung gegenüber dem Anfragenden geprüft.
B8: C | C8: 300 | E8: persönliche Wochenkarte | F8: Fachbeirat | G8: Kernsortiment | H8: open End | I8: ja | J8: ja | K8: ja | L8: ja | M8: ja | N8: ja | O8: ja
B9: C | C9: 301 | E9: übertragbare Wochenkarte | F9: Fachbeirat | G9: Kernsortiment | H9: 45640 | I9: ja | J9: ja | K9: ja | L9: ja | M9: ja | N9: ja | O9: ja
B10: C | C10: 302 | E10: persönliche Monatskarte | F10: Fachbeirat | G10: Kernsortiment | H10: open End | I10: ja | J10: ja | K10: ja | L10: ja | M10: ja | N10: ja | O10: ja
B11: C | C11: 303 | E11: übertragbare Monatskarte | F11: Fachbeirat | G11: Kernsortiment | H11: open End | I11: ja | J11: ja | K11: ja | L11: ja | M11: ja | N11: ja | O11: ja
B12: C | C12: 304 | E12: persönliche Jahreskarte | F12: Fachbeirat | G12: Kernsortiment | H12: 45640 | I12: ja | J12: ja | K12: ja | L12: ja | M12: ja | N12: ja | O12: ja
B13: C | C13: 305 | E13: übertragbare Jahreskarte | F13: Fachbeirat | G13: Kernsortiment | H13: 45640 | I13: ja | J13: ja | K13: ja | L13: ja | M13: ja | N13: ja | O13: ja
B14: C | C14: 307 | E14: Schülerwochenkarte | F14: Fachbeirat | G14: Kernsortiment | H14: open End | I14: ja | J14: ja | K14: ja | L14: ja | M14: ja | N14: ja | O14: ja
B15: C | C15: 308 | E15: Schülermonatskarte | F15: Fachbeirat | G15: Kernsortiment | H15: open End | I15: ja | J15: ja | K15: ja | L15: ja | M15: ja | N15: ja | O15: ja
B16: C | C16: 309 | E16: Schülerjahreskarte | F16: Fachbeirat | G16: Kernsortiment | H16: 45640 | I16: ja | J16: ja | K16: ja | L16: ja | M16: ja | N16: ja | O16: ja
A17: Tarifteil D - Tageskartenangebote | B17: D | C17: 1 | E17: Quer-durchs-Land-Ticket | F17: Fachbeirat | G17: Kernsortiment | H17: open End | I17: ja | J17: ja | K17: ja | L17: ja | M17: ja | N17: ja | O17: nein
B18: D | C18: 169 | E18: 9-Euro-Ticket | G18: Deutschland-Ticket | H18: 44804 | I18: ja | J18: ja | K18: ja | L18: ja | M18: ja | N18: ja | O18: nein
B19: D | C19: 2 | E19: Bayern-Ticket | F19: Bayern | G19: Kernsortiment | H19: open End | I19: ja | J19: ja | K19: ja | L19: ja | M19: ja | N19: ja | O19: nein
B20: D | C20: 3 | E20: Bayern-Ticket Nacht | F20: Bayern | G20: Kernsortiment | H20: open End | I20: ja | J20: ja | K20: ja | L20: ja | M20: ja | N20: ja | O20: nein
B21: D | C21: 4 | E21: Brandenburg-Berlin-Ticket | F21: Nord: MV | G21: Kernsortiment | H21: open End | I21: ja | J21: ja | K21: ja | L21: ja | M21: ja | N21: ja | O21: nein
B22: D | C22: 10 | E22: Brandenburg-Berlin-Ticket Nacht | F22: Nord: MV | G22: Kernsortiment | H22: open End | I22: ja | J22: ja | K22: ja | L22: ja | M22: ja | N22: ja | O22: nein
B23: D | C23: 5 | E23: Mecklenburg-Vorpommern-Ticket | F23: Nord: MV | G23: Kernsortiment | H23: open End | I23: ja | J23: ja | K23: ja | L23: ja | M23: ja | N23: ja | O23: nein
B24: D | C24: 6 | E24: Rheinland-Pfalz-Ticket | F24: BW, RLP, SL | G24: Kernsortiment | H24: open End | I24: ja | J24: ja | K24: ja | L24: ja | M24: ja | N24: ja | O24: nein
B25: D | C25: 11 | E25: Saarland-Ticket | F25: BW, RLP, SL | G25: Kernsortiment | H25: open End | I25: ja | J25: ja | K25: ja | L25: ja | M25: ja | N25: ja | O25: nein
B26: D | C26: 7 | E26: Sachsen-Ticket | F26: SN, ST, TH | G26: Kernsortiment | H26: open End | I26: ja | J26: ja | K26: ja | L26: ja | M26: ja | N26: ja | O26: nein
B27: D | C27: 12 | E27: Sachsen-Ticket + Westharz | F27: SN, ST, TH | G27: Kernsortiment | H27: open End | I27: ja | J27: ja | K27: ja | L27: ja | M27: ja | N27: ja | O27: nein
B28: D | C28: 8 | E28: Sachsen-Anhalt-Ticket | F28: SN, ST, TH | G28: Kernsortiment | H28: open End | I28: ja | J28: ja | K28: ja | L28: ja | M28: ja | N28: ja | O28: nein
B29: D | C29: 13 | E29: Sachsen-Anhalt-Ticket + Westharz | F29: SN, ST, TH | G29: Kernsortiment | H29: open End | I29: ja | J29: ja | K29: ja | L29: ja | M29: ja | N29: ja | O29: nein
B30: D | C30: 9 | E30: Thüringen-Ticket | F30: SN, ST, TH | G30: Kernsortiment | H30: open End | I30: ja | J30: ja | K30: ja | L30: ja | M30: ja | N30: ja | O30: nein
B31: D | C31: 15 | E31: Thüringen-Ticket + Westharz | F31: SN, ST, TH | G31: Kernsortiment | H31: open End | I31: ja | J31: ja | K31: ja | L31: ja | M31: ja | N31: ja | O31: nein
B32: D | C32: 142 | E32: Bernsteinticket Rügen | F32: Nord: MV | G32: Individualsortiment Plus | H32: 46022 | I32: ja | J32: ja | K32: ja | L32: ja | M32: ja | N32: ja | O32: nein
B33: D | C33: 143 | E33: Bernsteinticket Rügen Minigruppe | F33: Nord: MV | G33: Individualsortiment Plus | H33: 46022 | I33: ja | J33: ja | K33: ja | L33: ja | M33: ja | N33: ja | O33: nein
B34: D | C34: 122 | E34: Bayerwald-Ticket | F34: Bayern | G34: Individualsortiment Plus | H34: 45088 | I34: ja | J34: nein | K34: nein | L34: ja | M34: ja | N34: ja | O34: nein
B35: D | C35: 123 | E35: Bayerwald-Anschlussticket Deggendorf | F35: Bayern | G35: Individualsortiment Plus | H35: 46022 | I35: ja | J35: nein | K35: nein | L35: ja | M35: ja | N35: ja | O35: nein
B36: D | C36: 176 | E36: BAYERWALD-TAGEST. | F36: Bayern | G36: Kernsortiment | H36: open End | I36: ja | J36: ja | K36: ja | L36: ja | M36: ja | N36: ja | O36: nein
B37: D | C37: 177 | E37: BAYERWALD-TAGEST.+CZ | F37: Bayern | G37: Kernsortiment | H37: open End | I37: ja | J37: ja | K37: ja | L37: ja | M37: ja | N37: ja | O37: nein
B38: D | C38: 167 | E38: BGL-Tagesticket Bus&Bahn | F38: Bayern | G38: Individualsortiment Plus | H38: 46022 | I38: nein | J38: nein | K38: nein | L38: ja | M38: ja | N38: ja | O38: nein
B39: D | C39: 166 | E39: BRB-Tagesticket Berchtesgaden | F39: Bayern | G39: Individualsortiment Plus | H39: 46022 | I39: nein | J39: ja | K39: ja | L39: ja | M39: ja | N39: ja | O39: nein
B40: D | C40: 178 | E40: BRB-Tagesticket Berchtesgaden plus Salzburg | F40: Bayern | G40: Individualsortiment Plus | H40: 46022 | I40: nein | J40: ja | K40: ja | L40: ja | M40: ja | N40: ja | O40: nein
...

Sheet Tabelle1
A3: Ticketcluster_ID | B3: Ticketcluster | C3: Subcluster | D3: Anzahl von GattSearch
A4: 1 | B4: Flexpreis DTV | C4: Normalpreis | D4: 51
A5: 2 | B5: Zeitkarten DTV | C5: Ausl. Angebote | D5: 3
A6: 2 | B6: Zeitkarten DTV | C6: Azubi-Ticket | D6: 84
A7: 2 | B7: Zeitkarten DTV | C7: entfallen | D7: 2
A8: 2 | B8: Zeitkarten DTV | C8: Job-Ticket_Jahr | D8: 51
A9: 2 | B9: Zeitkarten DTV | C9: Job-Ticket_Monat | D9: 51
A10: 2 | B10: Zeitkarten DTV | C10: Kombi-Zeitkarte_Monat | D10: 8
A11: 2 | B11: Zeitkarten DTV | C11: Kombi-Zeitkarte_Monat_erm. | D11: 4
A12: 2 | B12: Zeitkarten DTV | C12: Kombi-Zeitkarte_Woche | D12: 12
A13: 2 | B13: Zeitkarten DTV | C13: Schüler-Ferien | D13: 10
A14: 2 | B14: Zeitkarten DTV | C14: Zeitkarte | D14: 1
A15: 2 | B15: Zeitkarten DTV | C15: Zeitkarte_Jahr | D15: 191
... A82: 8 | B82: Zeitkarten FV | C82: Zeitkarte_Woche_erm. | D82: 1
A83: 9 | B83: Sonstige Angebote FV | D83: 1
A84: 9 | B84: Sonstige Angebote FV | C84: Aktion | D84: 3
A85: 9 | B85: Sonstige Angebote FV | C85: Ausl. Angebote | D85: 41
A86: 9 | B86: Sonstige Angebote FV | C86: BahnCard100 | D86: 3
A87: 9 | B87: Sonstige Angebote FV | C87: Großkundenrabatt | D87: 1
A88: 9 | B88: Sonstige Angebote FV | C88: Kombitickets | D88: 1
A89: 9 | B89: Sonstige Angebote FV | C89: Militär | D89: 2
A90: 9 | B90: Sonstige Angebote FV | C90: Pässe | D90: 9
A91: 9 | B91: Sonstige Angebote FV | C91: sonstige | D91: 10
A92: 9 | B92: Sonstige Angebote FV | C92: Sparpreis Touristik | D92: 52
A93: 9 | B93: Sonstige Angebote FV | C93: Touristik | D93: 70
A94: 10 | B94: BC 25 / BC 50 FV | C94: BahnCard 25 | D94: 3
A95: 10 | B95: BC 25 / BC 50 FV | C95: sonstige | D95: 1
... A97: 16 | B97: 9-Euro-Ticket | C97: 9-Euro-Ticket | D97: 7
D98: 1
C99: DTV Abrechnung | D99: 3
C100: Militär | D100: 1
C101: Zeitkarte | D101: 1
A102: Gesamtergebnis | D102: 2373

Sheet VerkGatt_subcluster
A1: GattSearch | B1: GattSearch | C1: VerkNr | D1: Verkehr | E1: GattNr | F1: Angebot | G1: Ang-Nr | H1: Ang-Tarifsicht | I1: DB P Spezifika | J1: Subcluster | K1: Gruppe | L1: Kz Zeitkarte | M1: Ticketcluster_ID | N1: Ticketcluster | O1: Führender Verkehr | P1: führende Gattung
A2: 500741 | B2: =+C2*1000+E2 -> 500741 | C2: 500 | D2: TCV-ZUGANG | E2: 741 | F2: *direkter VK Beruf | J2: Ausl. Angebote | K2: Ausl. Angebote | M2: 2 | N2: Zeitkarten DTV | O2: 902 | P2: 502
A3: 500742 | B3: =+C3*1000+E3 -> 500742 | C3: 500 | D3: TCV-ZUGANG | E3: 742 | F3: *direkter VK Schüler | J3: Ausl. Angebote | K3: Ausl. Angebote | M3: 2 | N3: Zeitkarten DTV | O3: 902 | P3: 502
A4: 60220 | B4: =+C4*1000+E4 -> 60220 | C4: 60 | D4: BAHNBUSVERKEHR | E4: 220 | F4: 0BERTR. ABO-JAHR BUS | I4: UMWELTSCHUTZ-ABONNEMENT-JAHRESKA RTE BUS (UEBERTRAGBAR) | J4: Zeitkarte_Jahr | K4: Zeitkarte | L4: Jahr | M4: 2 | N4: Zeitkarten DTV | O4: 60 | P4: 218
A5: 60222 | B5: =+C5*1000+E5 -> 60222 | C5: 60 | D5: BAHNBUSVERKEHR | E5: 222 | F5: 0BERTR. ABO-JAHR BUS | I5: UMWELTSCHUTZ-ABONNEMENT-JAHRESKA RTE BUS (UEBERTRAGBAR) | J5: Zeitkarte_Jahr | K5: Zeitkarte | L5: Jahr | M5: 2 | N5: Zeitkarten DTV | O5: 60 | P5: 218
A6: 154030 | B6: =+C6*1000+E6 -> 154030 | C6: 154 | D6: U28-TARIF | E6: 30 | F6: 30-TAGE-KARTE | G6: 86 | H6: Regiotarif Schluckenau-Elbe (U28-Tarif/MPW-Sebnitz) | I6: DUMMY FÜR FIRE | J6: Zeitkarte_Monat | K6: Zeitkarte | L6: 30 Tage | M6: 2 | N6: Zeitkarten DTV | O6: 154 | P6: 30
A7: 154107 | B7: =+C7*1000+E7 -> 154107 | C7: 154 | D7: U28-TARIF | E7: 107 | F7: 30-TK KIND | G7: 86 | H7: Regiotarif Schluckenau-Elbe (U28-Tarif/MPW-Sebnitz) | I7: DUMMY FÜR FIRE | J7: Zeitkarte_Monat | K7: Zeitkarte | L7: 30 Tage | M7: 2 | N7: Zeitkarten DTV | O7: 154 | P7: 107
A8: 154106 | B8: =+C8*1000+E8 -> 154106 | C8: 154 | D8: U28-TARIF | E8: 106 | F8: 30-TK RENTNER | G8: 86 | H8: Regiotarif Schluckenau-Elbe (U28-Tarif/MPW-Sebnitz) | I8: DUMMY FÜR FIRE | J8: Zeitkarte_Monat | K8: Zeitkarte | L8: 30 Tage | M8: 2 | N8: Zeitkarten DTV | O8: 154 | P8: 106
A9: 154108 | B9: =+C9*1000+E9 -> 154108 | C9: 154 | D9: U28-TARIF | E9: 108 | F9: 30-TK STUDENT | G9: 86 | H9: Regiotarif Schluckenau-Elbe (U28-Tarif/MPW-Sebnitz) | I9: DUMMY FÜR FIRE | J9: Zeitkarte_Monat | K9: Zeitkarte | L9: 30 Tage | M9: 2 | N9: Zeitkarten DTV | O9: 154 | P9: 108
A10: 154007 | B10: =+C10*1000+E10 -> 154007 | C10: 154 | D10: U28-TARIF | E10: 7 | F10: 7-TAGE-KARTE | G10: 86 | H10: Regiotarif Schluckenau-Elbe (U28-Tarif/MPW-Sebnitz) | I10: DUMMY FÜR FIRE WIRD NICHT VERWENDET | J10: Zeitkarte_Woche | K10: Zeitkarte | L10: 7 Tage | M10: 2 | N10: Zeitkarten DTV | O10: 154 | P10: 7
A11: 154020 | B11: =+C11*1000+E11 -> 154020 | C11: 154 | D11: U28-TARIF | E11: 20 | F11: 7-TAGE-KARTE | G11: 86 | H11: Regiotarif Schluckenau-Elbe (U28-Tarif/MPW-Sebnitz) | I11: DUMMY FÜR FIRE | J11: Zeitkarte_Woche | K11: Zeitkarte | L11: 7 Tage | M11: 2 | N11: Zeitkarten DTV | O11: 154 | P11: 20
A12: 180031 | B12: =+C12*1000+E12 -> 180032 | C12: 180 | D12: DTV Haustarif | E12: 32 | F12: eTarif Donau-Isar Einzelfahrt | G12: 171 | H12: eTarif Donau-Isar Einzelfahrt + Tagesdeckel | J12: sonstige | K12: InOut | M12: 4 | N12: Sonstige Angebote DTV | O12: 180 | P12: 32
A13: 154104 | B13: =+C13*1000+E13 -> 154104 | C13: 154 | D13: U28-TARIF | E13: 104 | F13: 7-TK KIND | G13: 86 | H13: Regiotarif Schluckenau-Elbe (U28-Tarif/MPW-Sebnitz) | I13: DUMMY FÜR FIRE | J13: Zeitkarte_Woche | K13: Zeitkarte | L13: 7 Tage | M13: 2 | N13: Zeitkarten DTV | O13: 154 | P13: 104
A14: 154103 | B14: =+C14*1000+E14 -> 154103 | C14: 154 | D14: U28-TARIF | E14: 103 | F14: 7-TK RENTNER | G14: 86 | H14: Regiotarif Schluckenau-Elbe (U28-Tarif/MPW-Sebnitz) | I14: DUMMY FÜR FIRE | J14: Zeitkarte_Woche | K14: Zeitkarte | L14: 7 Tage | M14: 2 | N14: Zeitkarten DTV | O14: 154 | P14: 103
A15: 154105 | B15: =+C15*1000+E15 -> 154105 | C15: 154 | D15: U28-TARIF | E15: 105 | F15: 7-TK STUDENT | G15: 86 | H15: Regiotarif Schluckenau-Elbe (U28-Tarif/MPW-Sebnitz) | I15: DUMMY FÜR FIRE | J15: Zeitkarte_Woche | K15: Zeitkarte | L15: 7 Tage | M15: 2 | N15: Zeitkarten DTV | O15: 154 | P15: 105
A16: 154040 | B16: =+C16*1000+E16 -> 154040 | C16: 154 | D16: U28-TARIF | E16: 40 | F16: 90-TAGE-KARTE | G16: 86 | H16: Regiotarif Schluckenau-Elbe (U28-Tarif/MPW-Sebnitz) | I16: DUMMY FÜR FIRE | J16: Zeitkarte_Monat | K16: Zeitkarte | L16: 90 Tage | M16: 2 | N16: Zeitkarten DTV | O16: 154 | P16: 40
A17: 154110 | B17: =+C17*1000+E17 -> 154110 | C17: 154 | D17: U28-TARIF | E17: 110 | F17: 90-TK KIND | G17: 86 | H17: Regiotarif Schluckenau-Elbe (U28-Tarif/MPW-Sebnitz) | I17: DUMMY FÜR FIRE | J17: Zeitkarte_Monat | K17: Zeitkarte | L17: 90 Tage | M17: 2 | N17: Zeitkarten DTV | O17: 154 | P17: 110
A18: 154109 | B18: =+C18*1000+E18 -> 154109 | C18: 154 | D18: U28-TARIF | E18: 109 | F18: 90-TK RENTNER | G18: 86 | H18: Regiotarif Schluckenau-Elbe (U28-Tarif/MPW-Sebnitz) | I18: DUMMY FÜR FIRE | J18: Zeitkarte_Monat | K18: Zeitkarte | L18: 90 Tage | M18: 2 | N18: Zeitkarten DTV | O18: 154 | P18: 109
A19: 154111 | B19: =+C19*1000+E19 -> 154111 | C19: 154 | D19: U28-TARIF | E19: 111 | F19: 90-TK STUDENT | G19: 86 | H19: Regiotarif Schluckenau-Elbe (U28-Tarif/MPW-Sebnitz) | I19: DUMMY FÜR FIRE | J19: Zeitkarte_Monat | K19: Zeitkarte | L19: 90 Tage | M19: 2 | N19: Zeitkarten DTV | O19: 154 | P19: 111
A20: 102935 | B20: =+C20*1000+E20 -> 102935 | C20: 102 | D20: BINNENVERKEHR | E20: 935 | F20: A1- P. JC ABO KL-ÜBG | I20: A1-GATTUNG ZU 1/444 ZUR NACHER- FASSUNG U.A. KOMBINATIONEN MIT KOMBITICKET GÖPPINGEN UND ABO- PLUSCARD | J20: Zeitkarte_Jahr | K20: Zeitkarte | L20: Jahr | M20: 2 | N20: Zeitkarten DTV | O20: 102 | P20: 935
A21: 35487 | B21: =+C21*1000+E21 -> 35487 | C21: 35 | D21: WECHSELVERKEHR DB/NE | E21: 487 | F21: ABO RIESOSCH MERM NE | G21: 80 | H21: Übergangstarif Riesa (TZ 41) - Oschatz (TZ 127) (ÜT RiO) | I21: ABO MONATSKARTE RIESA OSCHATZ OHNE JAHRESKARTE MIT ERMÄ~IGUNG | J21: Riesa - Oschatz | K21: Zeitkarte | M21: 5 | N21: Angebote nicht provisionsrelevant | O21: 35 | P21: 487
A22: 1487 | B22: =+C22*1000+E22 -> 1487 | C22: 1 | D22: BINNENVERKEHR | E22: 487 | F22: ABO RIESOSCH MIT ERM | G22: 80 | H22: Übergangstarif Riesa (TZ 41) - Oschatz (TZ 127) (ÜT RiO) | I22: ABO RIESA OSCHATZ MIT ERMÄ~IGUNG OHNE JAHRESKARTE TGA/TGB | J22: Riesa - Oschatz | K22: Zeitkarte | L22: Jahr | M22: 5 | N22: Angebote nicht provisionsrelevant | O22: 3 | P22: 487
A23: 35469 | B23: =+C23*1000+E23 -> 35469 | C23: 35 | D23: WECHSELVERKEHR DB/NE | E23: 469 | F23: ABO RIESOSCH NE_OERM | G23: 80 | H23: Übergangstarif Riesa (TZ 41) - Oschatz (TZ 127) (ÜT RiO) | I23: UMWELTSCHUTZ-ABONNEMENT-MONATSKA RTE FUER ZUSCHLAGFREIE ZUEGE ABO MONATSKARTE OHNE JAHRESKARTE RIESA OSCHATZ OHNE ERMÄ~IGUNG | J23: Riesa - Oschatz | K23: Zeitkarte | M23: 5 | N23: Angebote nicht provisionsrelevant | O23: 35 | P23: 469
A24: 3234 | B24: =+C24*1000+E24 -> 3234 | C24: 3 | D24: NAHVERKEHR | E24: 234 | F24: BAYERW.-ANSCHL. DEGG | G24: 123 | H24: Bayerwald-Anschlussticket Deggendorf | I24: BAYERWALD-ANSCHLUSSTICKET DEGGENDORF | J24: Bayerwald | K24: Tageskarte | L24: Tag | M24: 5 | N24: Angebote nicht provisionsrelevant | O24: 3 | P24: 234
A25: 4234 | B25: =+C25*1000+E25 -> 4234 | C25: 4 | D25: NAHVERKEHR | E25: 234 | F25: BAYERW.-ANSCHTI DEG | G25: 123 | H25: Bayerwald-Anschlussticket Deggendorf | I25: BAYERWALD-ANSCHLUSSTICKET DEGGEN DORF GEHÖRT ZU 3/234 | J25: Bayerwald | K25: Tageskarte | L25: Tag | M25: 5 | N25: Angebote nicht provisionsrelevant | O25: 3 | P25: 234
A26: 90018 | B26: =+C26*1000+E26 -> 90018 | C26: 90 | D26: WALDBAHN | E26: 18 | F26: BAYERWALD-ANSCHL.DEG | G26: 123 | H26: Bayerwald-Anschlussticket Deggendorf | I26: DUMMY FÜR FIRE | J26: Bayerwald | K26: Tageskarte | L26: Tag | M26: 5 | N26: Angebote nicht provisionsrelevant | O26: 3 | P26: 234
A27: 90017 | B27: =+C27*1000+E27 -> 90017 | C27: 90 | D27: WALDBAHN | E27: 17 | F27: BAYERWALDTICKET | G27: 122 | H27: Bayerwald-Ticket | I27: DUMMY FÜR FIRE | J27: Bayerwald | K27: Tageskarte | L27: Tag | M27: 5 | N27: Angebote nicht provisionsrelevant | O27: 3 | P27: 232
A28: 500759 | B28: =+C28*1000+E28 -> 500759 | C28: 500 | D28: TCV-ZUGANG | E28: 759 | F28: *AußerfernTicket ÖBB | J28: Ausl. Angebote | K28: Ausl. Angebote | M28: 4 | N28: Sonstige Angebote DTV | O28: 902 | P28: 500
A29: 500753 | B29: =+C29*1000+E29 -> 500753 | C29: 500 | D29: TCV-ZUGANG | E29: 753 | F29: * Saar-L-L/Elsass-T. | G29: 92 | H29: Saar-Elsass-Ticket | J29: Saar-Elsass-Ticket | K29: Länderticket | M29: 3 | N29: Pauschalpreistickets DTV | O29: 3 | P29: 219
A30: 3113 | B30: =+C30*1000+E30 -> 3113 | C30: 3 | D30: NAHVERKEHR | E30: 113 | F30: ANIMAL PFERD | I30: MESSE PFERD ANIMAL DATUMSFELDER ALS LITERAL VORH. ERM 1= ERW ERM 2= ERMÄßIGT ERM 4= HUND AB 2011 VOERST UNGÜLTIG! | J30: Kombiticket | K30: Kombiticket | M30: 3 | N30: Pauschalpreistickets DTV | O30: 3 | P30: 113
A31: 3175 | B31: =+C31*1000+E31 -> 3175 | C31: 3 | D31: NAHVERKEHR | E31: 175 | F31: BAYERN TICKET | G31: 2 | H31: Bayern-Ticket | I31: BAYERN-TICKET (FIN) 1-5 PERSONEN (GKMV) 1.+ 2.KLASSE | J31: Bayern-Ticket | K31: Länderticket | M31: 3 | N31: Pauschalpreistickets DTV | O31: 3 | P31: 170
A32: 501378 | B32: =+C32*1000+E32 -> 501378 | C32: 501 | D32: ZUGANG VON NE AN DB | E32: 378 | F32: BAYERN TICKET | G32: 2 | H32: Bayern-Ticket | J32: Bayern-Ticket | K32: Länderticket | M32: 3 | N32: Pauschalpreistickets DTV | O32: 3 | P32: 170
A33: 3178 | B33: =+C33*1000+E33 -> 3178 | C33: 3 | D33: NAHVERKEHR | E33: 178 | F33: BAYERN-BÖHMEN TICKET | G33: 81 | H33: Bayern-Böhmen-Ticket | I33: BAYERN-BÖHMEN TICKET 2.KLASSE 1-5 PERSONEN (GKMV) FIN-GATTUNG!!! | J33: Bayern-Ticket | K33: Länderticket | M33: 3 | N33: Pauschalpreistickets DTV | O33: 3 | P33: 178
A34: 102940 | B34: =+C34*1000+E34 -> 102940 | C34: 102 | D34: BINNENVERKEHR | E34: 940 | F34: A1-PERS JAHRESC. B/S | I34: A1-GATTUNG ZU 102/853 ZUR NACH- ERFASSUNG U.A. KOMBINATIONEN MIT KOMBITICKET GÖPPINGEN UND ABO- PLUSCARD | J34: Zeitkarte_Jahr | K34: Zeitkarte | L34: Jahr | M34: 2 | N34: Zeitkarten DTV | O34: 1 | P34: 118
A35: 3237 | B35: =+C35*1000+E35 -> 3237 | C35: 3 | D35: NAHVERKEHR | E35: 237 | F35: BAYERN-BÖHMEN-TICKET | G35: 81 | H35: Bayern-Böhmen-Ticket | I35: BAYERN-BÖHMEN-TICKET PEP ANGEBOT | J35: Bayern-Ticket | K35: Länderticket | M35: 3 | N35: Pauschalpreistickets DTV | O35: 3 | P35: 178
A36: 102939 | B36: =+C36*1000+E36 -> 102939 | C36: 102 | D36: BINNENVERKEHR | E36: 939 | F36: A1-PERS JAHRESCARD | I36: A1-GATTUNG ZU 102/850 ZUR NACH- ERFASSUNG U.A. KOMBINATIONEN MIT KOMBITICKET GÖPPINGEN UND ABO- PLUSCARD | J36: Zeitkarte_Jahr | K36: Zeitkarte | L36: Jahr | M36: 2 | N36: Zeitkarten DTV | O36: 1 | P36: 116
A37: 102931 | B37: =+C37*1000+E37 -> 102931 | C37: 102 | D37: BINNENVERKEHR | E37: 931 | F37: A1-PERS JC ABO | I37: A1-GATTUNG ZU 1/433 ZUR NACHER- FASSUNG U.A. KOMBINATIONEN MIT KOMBITICKET GÖPPINGEN UND ABO- PLUSCARD | J37: Zeitkarte_Jahr | K37: Zeitkarte | M37: 2 | N37: Zeitkarten DTV | O37: 1 | P37: 116
A38: 102933 | B38: =+C38*1000+E38 -> 102933 | C38: 102 | D38: BINNENVERKEHR | E38: 933 | F38: A1-PERS JC ABO B/S | I38: A1-GATTUNG ZU 1/437 ZUR NACHER- FASSUNG U.A. KOMBINATIONEN MIT KOMBITICKET GÖPPINGEN UND ABO- PLUSCARD | J38: Zeitkarte_Jahr | K38: Zeitkarte | L38: Jahr | M38: 2 | N38: Zeitkarten DTV | O38: 1 | P38: 118
A39: 102155 | B39: =+C39*1000+E39 -> 102155 | C39: 102 | D39: BINNENVERKEHR | E39: 155 | F39: BAYERN-T NACHT 5P.PR | G39: 3 | H39: Bayern-Ticket Nacht | I39: BAYERN-TICKET 5 PERSONEN PROMO ARTIKEL: 4042 BEVE GATTUNG | J39: Bayern-Ticket | K39: Länderticket | M39: 3 | N39: Pauschalpreistickets DTV | O39: 3 | P39: 171
A40: 102158 | B40: =+C40*1000+E40 -> 102158 | C40: 102 | D40: BINNENVERKEHR | E40: 158 | F40: BAYERN-T. 1 P.TF | G40: 2 | H40: Bayern-Ticket | I40: BAYERN-TICKET 1 PERSON TF ARTIKEL: 4045 BEVE GATTUNG | J40: Bayern-Ticket | K40: Länderticket | M40: 3 | N40: Pauschalpreistickets DTV | O40: 3 | P40: 170
...

Sheet VerkGatt
